BEGIN:VCALENDAR
VERSION:2.0
PRODID:-//HLAA California - ECPv6.15.20//NONSGML v1.0//EN
CALSCALE:GREGORIAN
METHOD:PUBLISH
X-WR-CALNAME:HLAA California
X-ORIGINAL-URL:https://hearinglossca.org
X-WR-CALDESC:Events for HLAA California
REFRESH-INTERVAL;VALUE=DURATION:PT1H
X-Robots-Tag:noindex
X-PUBLISHED-TTL:PT1H
BEGIN:VTIMEZONE
TZID:America/Los_Angeles
BEGIN:DAYLIGHT
TZOFFSETFROM:-0800
TZOFFSETTO:-0700
TZNAME:PDT
DTSTART:20270314T100000
END:DAYLIGHT
BEGIN:STANDARD
TZOFFSETFROM:-0700
TZOFFSETTO:-0800
TZNAME:PST
DTSTART:20271107T090000
END:STANDARD
BEGIN:DAYLIGHT
TZOFFSETFROM:-0800
TZOFFSETTO:-0700
TZNAME:PDT
DTSTART:20280312T100000
END:DAYLIGHT
BEGIN:STANDARD
TZOFFSETFROM:-0700
TZOFFSETTO:-0800
TZNAME:PST
DTSTART:20281105T090000
END:STANDARD
BEGIN:DAYLIGHT
TZOFFSETFROM:-0800
TZOFFSETTO:-0700
TZNAME:PDT
DTSTART:20290311T100000
END:DAYLIGHT
BEGIN:STANDARD
TZOFFSETFROM:-0700
TZOFFSETTO:-0800
TZNAME:PST
DTSTART:20291104T090000
END:STANDARD
BEGIN:DAYLIGHT
TZOFFSETFROM:-0800
TZOFFSETTO:-0700
TZNAME:PDT
DTSTART:20300310T100000
END:DAYLIGHT
BEGIN:STANDARD
TZOFFSETFROM:-0700
TZOFFSETTO:-0800
TZNAME:PST
DTSTART:20301103T090000
END:STANDARD
END:VTIMEZONE
BEGIN:VEVENT
DTSTART;TZID=America/Los_Angeles:20281201T111500
DTEND;TZID=America/Los_Angeles:20281201T121500
DTSTAMP:20260419T172212
CREATED:20260321T171318Z
LAST-MODIFIED:20260321T171853Z
UID:10003120-1859282100-1859285700@hearinglossca.org
SUMMARY:Vivalon In-Person Hearing Loss Support Group (North Bay)
DESCRIPTION:Vivalon In-Person Hearing Loss Support Group \n1st Friday of the month \n11:15 am–12:15 pm \nVivalon\n999 Third Street\nSan Rafael\, CA 94901 \nPaid parking in garages and on street\, near the San Rafael Smart Train Stop
URL:https://hearinglossca.org/event/hlaa-north-bay-in-person-chapter-meeting/2028-12-01/
LOCATION:Vivalon\, 999 Third Street\, San Rafael\, CA\, 94901\, United States
CATEGORIES:Meetings,North Bay
ORGANIZER;CN="Sara Oser":MAILTO:HLAA.NBofCA@gmaill.com
END:VEVENT
BEGIN:VEVENT
DTSTART;TZID=America/Los_Angeles:20281227T103000
DTEND;TZID=America/Los_Angeles:20281227T120000
DTSTAMP:20260419T172212
CREATED:20260321T171524Z
LAST-MODIFIED:20260322T040119Z
UID:10003244-1861525800-1861531200@hearinglossca.org
SUMMARY:Alma Via In-Person Chapter Meeting (North Bay)
DESCRIPTION:Last Wednesday of the Month \n10:30 am—noon \nAlma Via (Rafael Room on 3rd Floor)\n515 Northgate Drive\nSan Rafael\, CA 94903 \nFree On-street parking\, near the Civic Center Smart Train stop
URL:https://hearinglossca.org/event/alma-via-in-person-chapter-meeting-north-bay/2028-12-27/
LOCATION:Alma Via\, Alma Via (Rafael Room on 3rd Floor) 515 Northgate Drive\, San Rafael\, CA\, 94903\, United States
CATEGORIES:North Bay
END:VEVENT
BEGIN:VEVENT
DTSTART;TZID=America/Los_Angeles:20281228T160000
DTEND;TZID=America/Los_Angeles:20281228T170000
DTSTAMP:20260419T172212
CREATED:20240406T194100Z
LAST-MODIFIED:20240423T222549Z
UID:10002074-1861632000-1861635600@hearinglossca.org
SUMMARY:HOPE Support Group
DESCRIPTION:Hope Support Group in Zoom\nMeets every 4th Thursday\n4—5:00 p.m. Pacific Time \nHearing Other People’s Experiences.  This group is an opportunity for you to express the challenges and successes of living with hearing loss. First\, we listen intently to each other without commenting.  After everyone has been heard\, we offer tips\, advice\, and experiences to support each other. \nEveryone is welcome\, people with good hearing as well as people with hearing loss. We find that after listening to each other\, we become advocates for ourselves and all those with hearing loss. \nThanks to our Vice-President\, Tawna Cooley\, who uses her excellent communication skills\,  for facilitating this meaningful group.
URL:https://hearinglossca.org/event/hope-support-group-2024/2028-12-28/
LOCATION:Chapter Virtual Zoom Meeting
CATEGORIES:HLAA Chapters,North Bay,Virtual Meetings
ATTACH;FMTTYPE=image/png:https://hearinglossca.org/wp-content/uploads/2024/04/HOPE.png
ORGANIZER;CN="Sara Oser":MAILTO:HLAA.NBofCA@gmaill.com
END:VEVENT
BEGIN:VEVENT
DTSTART;TZID=America/Los_Angeles:20290105T111500
DTEND;TZID=America/Los_Angeles:20290105T121500
DTSTAMP:20260419T172212
CREATED:20260321T171318Z
LAST-MODIFIED:20260321T171853Z
UID:10003121-1862306100-1862309700@hearinglossca.org
SUMMARY:Vivalon In-Person Hearing Loss Support Group (North Bay)
DESCRIPTION:Vivalon In-Person Hearing Loss Support Group \n1st Friday of the month \n11:15 am–12:15 pm \nVivalon\n999 Third Street\nSan Rafael\, CA 94901 \nPaid parking in garages and on street\, near the San Rafael Smart Train Stop
URL:https://hearinglossca.org/event/hlaa-north-bay-in-person-chapter-meeting/2029-01-05/
LOCATION:Vivalon\, 999 Third Street\, San Rafael\, CA\, 94901\, United States
CATEGORIES:Meetings,North Bay
ORGANIZER;CN="Sara Oser":MAILTO:HLAA.NBofCA@gmaill.com
END:VEVENT
BEGIN:VEVENT
DTSTART;TZID=America/Los_Angeles:20290124T103000
DTEND;TZID=America/Los_Angeles:20290124T120000
DTSTAMP:20260419T172212
CREATED:20260321T171524Z
LAST-MODIFIED:20260322T040119Z
UID:10003245-1863945000-1863950400@hearinglossca.org
SUMMARY:Alma Via In-Person Chapter Meeting (North Bay)
DESCRIPTION:Last Wednesday of the Month \n10:30 am—noon \nAlma Via (Rafael Room on 3rd Floor)\n515 Northgate Drive\nSan Rafael\, CA 94903 \nFree On-street parking\, near the Civic Center Smart Train stop
URL:https://hearinglossca.org/event/alma-via-in-person-chapter-meeting-north-bay/2029-01-24/
LOCATION:Alma Via\, Alma Via (Rafael Room on 3rd Floor) 515 Northgate Drive\, San Rafael\, CA\, 94903\, United States
CATEGORIES:North Bay
END:VEVENT
BEGIN:VEVENT
DTSTART;TZID=America/Los_Angeles:20290125T160000
DTEND;TZID=America/Los_Angeles:20290125T170000
DTSTAMP:20260419T172212
CREATED:20240406T194100Z
LAST-MODIFIED:20240423T222549Z
UID:10002075-1864051200-1864054800@hearinglossca.org
SUMMARY:HOPE Support Group
DESCRIPTION:Hope Support Group in Zoom\nMeets every 4th Thursday\n4—5:00 p.m. Pacific Time \nHearing Other People’s Experiences.  This group is an opportunity for you to express the challenges and successes of living with hearing loss. First\, we listen intently to each other without commenting.  After everyone has been heard\, we offer tips\, advice\, and experiences to support each other. \nEveryone is welcome\, people with good hearing as well as people with hearing loss. We find that after listening to each other\, we become advocates for ourselves and all those with hearing loss. \nThanks to our Vice-President\, Tawna Cooley\, who uses her excellent communication skills\,  for facilitating this meaningful group.
URL:https://hearinglossca.org/event/hope-support-group-2024/2029-01-25/
LOCATION:Chapter Virtual Zoom Meeting
CATEGORIES:HLAA Chapters,North Bay,Virtual Meetings
ATTACH;FMTTYPE=image/png:https://hearinglossca.org/wp-content/uploads/2024/04/HOPE.png
ORGANIZER;CN="Sara Oser":MAILTO:HLAA.NBofCA@gmaill.com
END:VEVENT
BEGIN:VEVENT
DTSTART;TZID=America/Los_Angeles:20290202T111500
DTEND;TZID=America/Los_Angeles:20290202T121500
DTSTAMP:20260419T172212
CREATED:20260321T171318Z
LAST-MODIFIED:20260321T171853Z
UID:10003122-1864725300-1864728900@hearinglossca.org
SUMMARY:Vivalon In-Person Hearing Loss Support Group (North Bay)
DESCRIPTION:Vivalon In-Person Hearing Loss Support Group \n1st Friday of the month \n11:15 am–12:15 pm \nVivalon\n999 Third Street\nSan Rafael\, CA 94901 \nPaid parking in garages and on street\, near the San Rafael Smart Train Stop
URL:https://hearinglossca.org/event/hlaa-north-bay-in-person-chapter-meeting/2029-02-02/
LOCATION:Vivalon\, 999 Third Street\, San Rafael\, CA\, 94901\, United States
CATEGORIES:Meetings,North Bay
ORGANIZER;CN="Sara Oser":MAILTO:HLAA.NBofCA@gmaill.com
END:VEVENT
BEGIN:VEVENT
DTSTART;TZID=America/Los_Angeles:20290222T160000
DTEND;TZID=America/Los_Angeles:20290222T170000
DTSTAMP:20260419T172212
CREATED:20240406T194100Z
LAST-MODIFIED:20240423T222549Z
UID:10002076-1866470400-1866474000@hearinglossca.org
SUMMARY:HOPE Support Group
DESCRIPTION:Hope Support Group in Zoom\nMeets every 4th Thursday\n4—5:00 p.m. Pacific Time \nHearing Other People’s Experiences.  This group is an opportunity for you to express the challenges and successes of living with hearing loss. First\, we listen intently to each other without commenting.  After everyone has been heard\, we offer tips\, advice\, and experiences to support each other. \nEveryone is welcome\, people with good hearing as well as people with hearing loss. We find that after listening to each other\, we become advocates for ourselves and all those with hearing loss. \nThanks to our Vice-President\, Tawna Cooley\, who uses her excellent communication skills\,  for facilitating this meaningful group.
URL:https://hearinglossca.org/event/hope-support-group-2024/2029-02-22/
LOCATION:Chapter Virtual Zoom Meeting
CATEGORIES:HLAA Chapters,North Bay,Virtual Meetings
ATTACH;FMTTYPE=image/png:https://hearinglossca.org/wp-content/uploads/2024/04/HOPE.png
ORGANIZER;CN="Sara Oser":MAILTO:HLAA.NBofCA@gmaill.com
END:VEVENT
BEGIN:VEVENT
DTSTART;TZID=America/Los_Angeles:20290228T103000
DTEND;TZID=America/Los_Angeles:20290228T120000
DTSTAMP:20260419T172212
CREATED:20260321T171524Z
LAST-MODIFIED:20260322T040119Z
UID:10003246-1866969000-1866974400@hearinglossca.org
SUMMARY:Alma Via In-Person Chapter Meeting (North Bay)
DESCRIPTION:Last Wednesday of the Month \n10:30 am—noon \nAlma Via (Rafael Room on 3rd Floor)\n515 Northgate Drive\nSan Rafael\, CA 94903 \nFree On-street parking\, near the Civic Center Smart Train stop
URL:https://hearinglossca.org/event/alma-via-in-person-chapter-meeting-north-bay/2029-02-28/
LOCATION:Alma Via\, Alma Via (Rafael Room on 3rd Floor) 515 Northgate Drive\, San Rafael\, CA\, 94903\, United States
CATEGORIES:North Bay
END:VEVENT
BEGIN:VEVENT
DTSTART;TZID=America/Los_Angeles:20290302T111500
DTEND;TZID=America/Los_Angeles:20290302T121500
DTSTAMP:20260419T172212
CREATED:20260321T171318Z
LAST-MODIFIED:20260321T171853Z
UID:10003123-1867144500-1867148100@hearinglossca.org
SUMMARY:Vivalon In-Person Hearing Loss Support Group (North Bay)
DESCRIPTION:Vivalon In-Person Hearing Loss Support Group \n1st Friday of the month \n11:15 am–12:15 pm \nVivalon\n999 Third Street\nSan Rafael\, CA 94901 \nPaid parking in garages and on street\, near the San Rafael Smart Train Stop
URL:https://hearinglossca.org/event/hlaa-north-bay-in-person-chapter-meeting/2029-03-02/
LOCATION:Vivalon\, 999 Third Street\, San Rafael\, CA\, 94901\, United States
CATEGORIES:Meetings,North Bay
ORGANIZER;CN="Sara Oser":MAILTO:HLAA.NBofCA@gmaill.com
END:VEVENT
BEGIN:VEVENT
DTSTART;TZID=America/Los_Angeles:20290322T160000
DTEND;TZID=America/Los_Angeles:20290322T170000
DTSTAMP:20260419T172212
CREATED:20240406T194100Z
LAST-MODIFIED:20240423T222549Z
UID:10002077-1868889600-1868893200@hearinglossca.org
SUMMARY:HOPE Support Group
DESCRIPTION:Hope Support Group in Zoom\nMeets every 4th Thursday\n4—5:00 p.m. Pacific Time \nHearing Other People’s Experiences.  This group is an opportunity for you to express the challenges and successes of living with hearing loss. First\, we listen intently to each other without commenting.  After everyone has been heard\, we offer tips\, advice\, and experiences to support each other. \nEveryone is welcome\, people with good hearing as well as people with hearing loss. We find that after listening to each other\, we become advocates for ourselves and all those with hearing loss. \nThanks to our Vice-President\, Tawna Cooley\, who uses her excellent communication skills\,  for facilitating this meaningful group.
URL:https://hearinglossca.org/event/hope-support-group-2024/2029-03-22/
LOCATION:Chapter Virtual Zoom Meeting
CATEGORIES:HLAA Chapters,North Bay,Virtual Meetings
ATTACH;FMTTYPE=image/png:https://hearinglossca.org/wp-content/uploads/2024/04/HOPE.png
ORGANIZER;CN="Sara Oser":MAILTO:HLAA.NBofCA@gmaill.com
END:VEVENT
BEGIN:VEVENT
DTSTART;TZID=America/Los_Angeles:20290328T103000
DTEND;TZID=America/Los_Angeles:20290328T120000
DTSTAMP:20260419T172212
CREATED:20260321T171524Z
LAST-MODIFIED:20260322T040119Z
UID:10003247-1869388200-1869393600@hearinglossca.org
SUMMARY:Alma Via In-Person Chapter Meeting (North Bay)
DESCRIPTION:Last Wednesday of the Month \n10:30 am—noon \nAlma Via (Rafael Room on 3rd Floor)\n515 Northgate Drive\nSan Rafael\, CA 94903 \nFree On-street parking\, near the Civic Center Smart Train stop
URL:https://hearinglossca.org/event/alma-via-in-person-chapter-meeting-north-bay/2029-03-28/
LOCATION:Alma Via\, Alma Via (Rafael Room on 3rd Floor) 515 Northgate Drive\, San Rafael\, CA\, 94903\, United States
CATEGORIES:North Bay
END:VEVENT
BEGIN:VEVENT
DTSTART;TZID=America/Los_Angeles:20290406T111500
DTEND;TZID=America/Los_Angeles:20290406T121500
DTSTAMP:20260419T172212
CREATED:20260321T171318Z
LAST-MODIFIED:20260321T171853Z
UID:10003124-1870168500-1870172100@hearinglossca.org
SUMMARY:Vivalon In-Person Hearing Loss Support Group (North Bay)
DESCRIPTION:Vivalon In-Person Hearing Loss Support Group \n1st Friday of the month \n11:15 am–12:15 pm \nVivalon\n999 Third Street\nSan Rafael\, CA 94901 \nPaid parking in garages and on street\, near the San Rafael Smart Train Stop
URL:https://hearinglossca.org/event/hlaa-north-bay-in-person-chapter-meeting/2029-04-06/
LOCATION:Vivalon\, 999 Third Street\, San Rafael\, CA\, 94901\, United States
CATEGORIES:Meetings,North Bay
ORGANIZER;CN="Sara Oser":MAILTO:HLAA.NBofCA@gmaill.com
END:VEVENT
BEGIN:VEVENT
DTSTART;TZID=America/Los_Angeles:20290425T103000
DTEND;TZID=America/Los_Angeles:20290425T120000
DTSTAMP:20260419T172212
CREATED:20260321T171524Z
LAST-MODIFIED:20260322T040119Z
UID:10003248-1871807400-1871812800@hearinglossca.org
SUMMARY:Alma Via In-Person Chapter Meeting (North Bay)
DESCRIPTION:Last Wednesday of the Month \n10:30 am—noon \nAlma Via (Rafael Room on 3rd Floor)\n515 Northgate Drive\nSan Rafael\, CA 94903 \nFree On-street parking\, near the Civic Center Smart Train stop
URL:https://hearinglossca.org/event/alma-via-in-person-chapter-meeting-north-bay/2029-04-25/
LOCATION:Alma Via\, Alma Via (Rafael Room on 3rd Floor) 515 Northgate Drive\, San Rafael\, CA\, 94903\, United States
CATEGORIES:North Bay
END:VEVENT
BEGIN:VEVENT
DTSTART;TZID=America/Los_Angeles:20290504T111500
DTEND;TZID=America/Los_Angeles:20290504T121500
DTSTAMP:20260419T172212
CREATED:20260321T171318Z
LAST-MODIFIED:20260321T171853Z
UID:10003125-1872587700-1872591300@hearinglossca.org
SUMMARY:Vivalon In-Person Hearing Loss Support Group (North Bay)
DESCRIPTION:Vivalon In-Person Hearing Loss Support Group \n1st Friday of the month \n11:15 am–12:15 pm \nVivalon\n999 Third Street\nSan Rafael\, CA 94901 \nPaid parking in garages and on street\, near the San Rafael Smart Train Stop
URL:https://hearinglossca.org/event/hlaa-north-bay-in-person-chapter-meeting/2029-05-04/
LOCATION:Vivalon\, 999 Third Street\, San Rafael\, CA\, 94901\, United States
CATEGORIES:Meetings,North Bay
ORGANIZER;CN="Sara Oser":MAILTO:HLAA.NBofCA@gmaill.com
END:VEVENT
BEGIN:VEVENT
DTSTART;TZID=America/Los_Angeles:20290523T103000
DTEND;TZID=America/Los_Angeles:20290523T120000
DTSTAMP:20260419T172212
CREATED:20260321T171524Z
LAST-MODIFIED:20260322T040119Z
UID:10003249-1874226600-1874232000@hearinglossca.org
SUMMARY:Alma Via In-Person Chapter Meeting (North Bay)
DESCRIPTION:Last Wednesday of the Month \n10:30 am—noon \nAlma Via (Rafael Room on 3rd Floor)\n515 Northgate Drive\nSan Rafael\, CA 94903 \nFree On-street parking\, near the Civic Center Smart Train stop
URL:https://hearinglossca.org/event/alma-via-in-person-chapter-meeting-north-bay/2029-05-23/
LOCATION:Alma Via\, Alma Via (Rafael Room on 3rd Floor) 515 Northgate Drive\, San Rafael\, CA\, 94903\, United States
CATEGORIES:North Bay
END:VEVENT
BEGIN:VEVENT
DTSTART;TZID=America/Los_Angeles:20290601T111500
DTEND;TZID=America/Los_Angeles:20290601T121500
DTSTAMP:20260419T172212
CREATED:20260321T171318Z
LAST-MODIFIED:20260321T171853Z
UID:10003126-1875006900-1875010500@hearinglossca.org
SUMMARY:Vivalon In-Person Hearing Loss Support Group (North Bay)
DESCRIPTION:Vivalon In-Person Hearing Loss Support Group \n1st Friday of the month \n11:15 am–12:15 pm \nVivalon\n999 Third Street\nSan Rafael\, CA 94901 \nPaid parking in garages and on street\, near the San Rafael Smart Train Stop
URL:https://hearinglossca.org/event/hlaa-north-bay-in-person-chapter-meeting/2029-06-01/
LOCATION:Vivalon\, 999 Third Street\, San Rafael\, CA\, 94901\, United States
CATEGORIES:Meetings,North Bay
ORGANIZER;CN="Sara Oser":MAILTO:HLAA.NBofCA@gmaill.com
END:VEVENT
BEGIN:VEVENT
DTSTART;TZID=America/Los_Angeles:20290627T103000
DTEND;TZID=America/Los_Angeles:20290627T120000
DTSTAMP:20260419T172212
CREATED:20260321T171524Z
LAST-MODIFIED:20260322T040119Z
UID:10003250-1877250600-1877256000@hearinglossca.org
SUMMARY:Alma Via In-Person Chapter Meeting (North Bay)
DESCRIPTION:Last Wednesday of the Month \n10:30 am—noon \nAlma Via (Rafael Room on 3rd Floor)\n515 Northgate Drive\nSan Rafael\, CA 94903 \nFree On-street parking\, near the Civic Center Smart Train stop
URL:https://hearinglossca.org/event/alma-via-in-person-chapter-meeting-north-bay/2029-06-27/
LOCATION:Alma Via\, Alma Via (Rafael Room on 3rd Floor) 515 Northgate Drive\, San Rafael\, CA\, 94903\, United States
CATEGORIES:North Bay
END:VEVENT
BEGIN:VEVENT
DTSTART;TZID=America/Los_Angeles:20290706T111500
DTEND;TZID=America/Los_Angeles:20290706T121500
DTSTAMP:20260419T172212
CREATED:20260321T171318Z
LAST-MODIFIED:20260321T171853Z
UID:10003127-1878030900-1878034500@hearinglossca.org
SUMMARY:Vivalon In-Person Hearing Loss Support Group (North Bay)
DESCRIPTION:Vivalon In-Person Hearing Loss Support Group \n1st Friday of the month \n11:15 am–12:15 pm \nVivalon\n999 Third Street\nSan Rafael\, CA 94901 \nPaid parking in garages and on street\, near the San Rafael Smart Train Stop
URL:https://hearinglossca.org/event/hlaa-north-bay-in-person-chapter-meeting/2029-07-06/
LOCATION:Vivalon\, 999 Third Street\, San Rafael\, CA\, 94901\, United States
CATEGORIES:Meetings,North Bay
ORGANIZER;CN="Sara Oser":MAILTO:HLAA.NBofCA@gmaill.com
END:VEVENT
BEGIN:VEVENT
DTSTART;TZID=America/Los_Angeles:20290725T103000
DTEND;TZID=America/Los_Angeles:20290725T120000
DTSTAMP:20260419T172212
CREATED:20260321T171524Z
LAST-MODIFIED:20260322T040119Z
UID:10003251-1879669800-1879675200@hearinglossca.org
SUMMARY:Alma Via In-Person Chapter Meeting (North Bay)
DESCRIPTION:Last Wednesday of the Month \n10:30 am—noon \nAlma Via (Rafael Room on 3rd Floor)\n515 Northgate Drive\nSan Rafael\, CA 94903 \nFree On-street parking\, near the Civic Center Smart Train stop
URL:https://hearinglossca.org/event/alma-via-in-person-chapter-meeting-north-bay/2029-07-25/
LOCATION:Alma Via\, Alma Via (Rafael Room on 3rd Floor) 515 Northgate Drive\, San Rafael\, CA\, 94903\, United States
CATEGORIES:North Bay
END:VEVENT
BEGIN:VEVENT
DTSTART;TZID=America/Los_Angeles:20290803T111500
DTEND;TZID=America/Los_Angeles:20290803T121500
DTSTAMP:20260419T172212
CREATED:20260321T171318Z
LAST-MODIFIED:20260321T171853Z
UID:10003128-1880450100-1880453700@hearinglossca.org
SUMMARY:Vivalon In-Person Hearing Loss Support Group (North Bay)
DESCRIPTION:Vivalon In-Person Hearing Loss Support Group \n1st Friday of the month \n11:15 am–12:15 pm \nVivalon\n999 Third Street\nSan Rafael\, CA 94901 \nPaid parking in garages and on street\, near the San Rafael Smart Train Stop
URL:https://hearinglossca.org/event/hlaa-north-bay-in-person-chapter-meeting/2029-08-03/
LOCATION:Vivalon\, 999 Third Street\, San Rafael\, CA\, 94901\, United States
CATEGORIES:Meetings,North Bay
ORGANIZER;CN="Sara Oser":MAILTO:HLAA.NBofCA@gmaill.com
END:VEVENT
BEGIN:VEVENT
DTSTART;TZID=America/Los_Angeles:20290822T103000
DTEND;TZID=America/Los_Angeles:20290822T120000
DTSTAMP:20260419T172212
CREATED:20260321T171524Z
LAST-MODIFIED:20260322T040119Z
UID:10003252-1882089000-1882094400@hearinglossca.org
SUMMARY:Alma Via In-Person Chapter Meeting (North Bay)
DESCRIPTION:Last Wednesday of the Month \n10:30 am—noon \nAlma Via (Rafael Room on 3rd Floor)\n515 Northgate Drive\nSan Rafael\, CA 94903 \nFree On-street parking\, near the Civic Center Smart Train stop
URL:https://hearinglossca.org/event/alma-via-in-person-chapter-meeting-north-bay/2029-08-22/
LOCATION:Alma Via\, Alma Via (Rafael Room on 3rd Floor) 515 Northgate Drive\, San Rafael\, CA\, 94903\, United States
CATEGORIES:North Bay
END:VEVENT
BEGIN:VEVENT
DTSTART;TZID=America/Los_Angeles:20290907T111500
DTEND;TZID=America/Los_Angeles:20290907T121500
DTSTAMP:20260419T172212
CREATED:20260321T171318Z
LAST-MODIFIED:20260321T171853Z
UID:10003129-1883474100-1883477700@hearinglossca.org
SUMMARY:Vivalon In-Person Hearing Loss Support Group (North Bay)
DESCRIPTION:Vivalon In-Person Hearing Loss Support Group \n1st Friday of the month \n11:15 am–12:15 pm \nVivalon\n999 Third Street\nSan Rafael\, CA 94901 \nPaid parking in garages and on street\, near the San Rafael Smart Train Stop
URL:https://hearinglossca.org/event/hlaa-north-bay-in-person-chapter-meeting/2029-09-07/
LOCATION:Vivalon\, 999 Third Street\, San Rafael\, CA\, 94901\, United States
CATEGORIES:Meetings,North Bay
ORGANIZER;CN="Sara Oser":MAILTO:HLAA.NBofCA@gmaill.com
END:VEVENT
BEGIN:VEVENT
DTSTART;TZID=America/Los_Angeles:20290926T103000
DTEND;TZID=America/Los_Angeles:20290926T120000
DTSTAMP:20260419T172212
CREATED:20260321T171524Z
LAST-MODIFIED:20260322T040119Z
UID:10003253-1885113000-1885118400@hearinglossca.org
SUMMARY:Alma Via In-Person Chapter Meeting (North Bay)
DESCRIPTION:Last Wednesday of the Month \n10:30 am—noon \nAlma Via (Rafael Room on 3rd Floor)\n515 Northgate Drive\nSan Rafael\, CA 94903 \nFree On-street parking\, near the Civic Center Smart Train stop
URL:https://hearinglossca.org/event/alma-via-in-person-chapter-meeting-north-bay/2029-09-26/
LOCATION:Alma Via\, Alma Via (Rafael Room on 3rd Floor) 515 Northgate Drive\, San Rafael\, CA\, 94903\, United States
CATEGORIES:North Bay
END:VEVENT
BEGIN:VEVENT
DTSTART;TZID=America/Los_Angeles:20291005T111500
DTEND;TZID=America/Los_Angeles:20291005T121500
DTSTAMP:20260419T172212
CREATED:20260321T171318Z
LAST-MODIFIED:20260321T171853Z
UID:10003130-1885893300-1885896900@hearinglossca.org
SUMMARY:Vivalon In-Person Hearing Loss Support Group (North Bay)
DESCRIPTION:Vivalon In-Person Hearing Loss Support Group \n1st Friday of the month \n11:15 am–12:15 pm \nVivalon\n999 Third Street\nSan Rafael\, CA 94901 \nPaid parking in garages and on street\, near the San Rafael Smart Train Stop
URL:https://hearinglossca.org/event/hlaa-north-bay-in-person-chapter-meeting/2029-10-05/
LOCATION:Vivalon\, 999 Third Street\, San Rafael\, CA\, 94901\, United States
CATEGORIES:Meetings,North Bay
ORGANIZER;CN="Sara Oser":MAILTO:HLAA.NBofCA@gmaill.com
END:VEVENT
BEGIN:VEVENT
DTSTART;TZID=America/Los_Angeles:20291024T103000
DTEND;TZID=America/Los_Angeles:20291024T120000
DTSTAMP:20260419T172212
CREATED:20260321T171524Z
LAST-MODIFIED:20260322T040119Z
UID:10003254-1887532200-1887537600@hearinglossca.org
SUMMARY:Alma Via In-Person Chapter Meeting (North Bay)
DESCRIPTION:Last Wednesday of the Month \n10:30 am—noon \nAlma Via (Rafael Room on 3rd Floor)\n515 Northgate Drive\nSan Rafael\, CA 94903 \nFree On-street parking\, near the Civic Center Smart Train stop
URL:https://hearinglossca.org/event/alma-via-in-person-chapter-meeting-north-bay/2029-10-24/
LOCATION:Alma Via\, Alma Via (Rafael Room on 3rd Floor) 515 Northgate Drive\, San Rafael\, CA\, 94903\, United States
CATEGORIES:North Bay
END:VEVENT
BEGIN:VEVENT
DTSTART;TZID=America/Los_Angeles:20291102T111500
DTEND;TZID=America/Los_Angeles:20291102T121500
DTSTAMP:20260419T172212
CREATED:20260321T171318Z
LAST-MODIFIED:20260321T171853Z
UID:10003131-1888312500-1888316100@hearinglossca.org
SUMMARY:Vivalon In-Person Hearing Loss Support Group (North Bay)
DESCRIPTION:Vivalon In-Person Hearing Loss Support Group \n1st Friday of the month \n11:15 am–12:15 pm \nVivalon\n999 Third Street\nSan Rafael\, CA 94901 \nPaid parking in garages and on street\, near the San Rafael Smart Train Stop
URL:https://hearinglossca.org/event/hlaa-north-bay-in-person-chapter-meeting/2029-11-02/
LOCATION:Vivalon\, 999 Third Street\, San Rafael\, CA\, 94901\, United States
CATEGORIES:Meetings,North Bay
ORGANIZER;CN="Sara Oser":MAILTO:HLAA.NBofCA@gmaill.com
END:VEVENT
BEGIN:VEVENT
DTSTART;TZID=America/Los_Angeles:20291128T103000
DTEND;TZID=America/Los_Angeles:20291128T120000
DTSTAMP:20260419T172212
CREATED:20260321T171524Z
LAST-MODIFIED:20260322T040119Z
UID:10003255-1890556200-1890561600@hearinglossca.org
SUMMARY:Alma Via In-Person Chapter Meeting (North Bay)
DESCRIPTION:Last Wednesday of the Month \n10:30 am—noon \nAlma Via (Rafael Room on 3rd Floor)\n515 Northgate Drive\nSan Rafael\, CA 94903 \nFree On-street parking\, near the Civic Center Smart Train stop
URL:https://hearinglossca.org/event/alma-via-in-person-chapter-meeting-north-bay/2029-11-28/
LOCATION:Alma Via\, Alma Via (Rafael Room on 3rd Floor) 515 Northgate Drive\, San Rafael\, CA\, 94903\, United States
CATEGORIES:North Bay
END:VEVENT
BEGIN:VEVENT
DTSTART;TZID=America/Los_Angeles:20291207T111500
DTEND;TZID=America/Los_Angeles:20291207T121500
DTSTAMP:20260419T172212
CREATED:20260321T171318Z
LAST-MODIFIED:20260321T171853Z
UID:10003132-1891336500-1891340100@hearinglossca.org
SUMMARY:Vivalon In-Person Hearing Loss Support Group (North Bay)
DESCRIPTION:Vivalon In-Person Hearing Loss Support Group \n1st Friday of the month \n11:15 am–12:15 pm \nVivalon\n999 Third Street\nSan Rafael\, CA 94901 \nPaid parking in garages and on street\, near the San Rafael Smart Train Stop
URL:https://hearinglossca.org/event/hlaa-north-bay-in-person-chapter-meeting/2029-12-07/
LOCATION:Vivalon\, 999 Third Street\, San Rafael\, CA\, 94901\, United States
CATEGORIES:Meetings,North Bay
ORGANIZER;CN="Sara Oser":MAILTO:HLAA.NBofCA@gmaill.com
END:VEVENT
BEGIN:VEVENT
DTSTART;TZID=America/Los_Angeles:20291226T103000
DTEND;TZID=America/Los_Angeles:20291226T120000
DTSTAMP:20260419T172212
CREATED:20260321T171524Z
LAST-MODIFIED:20260322T040119Z
UID:10003256-1892975400-1892980800@hearinglossca.org
SUMMARY:Alma Via In-Person Chapter Meeting (North Bay)
DESCRIPTION:Last Wednesday of the Month \n10:30 am—noon \nAlma Via (Rafael Room on 3rd Floor)\n515 Northgate Drive\nSan Rafael\, CA 94903 \nFree On-street parking\, near the Civic Center Smart Train stop
URL:https://hearinglossca.org/event/alma-via-in-person-chapter-meeting-north-bay/2029-12-26/
LOCATION:Alma Via\, Alma Via (Rafael Room on 3rd Floor) 515 Northgate Drive\, San Rafael\, CA\, 94903\, United States
CATEGORIES:North Bay
END:VEVENT
END:VCALENDAR